BEGIN:VCALENDAR
VERSION:2.0
PRODID:icalendar-ruby
CALSCALE:GREGORIAN
METHOD:PUBLISH
BEGIN:VEVENT
DTSTAMP:20260424T164333Z
UID:804-1929024@knoxottawa.ca
DTSTART:20261022T020000Z
DTEND:20261022T030000Z
CLASS:PUBLIC
CREATED:20260424T120401
DESCRIPTION:On  Wednesday morning from 10 to 11 AM Knox hosts a Bible stud
 y\, both in-person and on-line.  \nWe're currently taking a Christmas bre
 ak and will resume Wednesday\, January 7th\, starting a study of the New T
 estament letter of Philippians.   \nIf you are curious about the Christi
 an faith or if you have been a Jesus follower for a long time\, feel free 
 to drop a line at the email below and join in on discussion in the comfort
  of your home\, or around a table with other folks. Everyone is welcome!
LAST-MODIFIED:20260424T120401
LOCATION:The Parlour
SUMMARY:Knox Bible Study
URL;VALUE=URI:https://www.knoxottawa.ca/events/knox-bible-study--804/2026-1
 0-21
ATTACH;FILENAME="Knox Bible Study, 2025.jpg";FMTTYPE=image/jpeg:https://dq5
 pwpg1q8ru0.cloudfront.net/2025/11/22/01/59/47/6c2dde75-5d16-47cb-a833-f8b6
 c888f646/Knox%20Bible%20Study,%202025.jpg
END:VEVENT
END:VCALENDAR
