BEGIN:VCALENDAR
VERSION:2.0
PRODID:icalendar-ruby
CALSCALE:GREGORIAN
METHOD:PUBLISH
BEGIN:VEVENT
DTSTAMP:20260420T085034Z
UID:834-1877898@knoxottawa.ca
DTSTART:20260419T143000Z
DTEND:20260419T153000Z
CLASS:PUBLIC
CREATED:20260416T131907
DESCRIPTION:We welcome a variety of musicians to lead parts of worship this
  weekend\, including Nelani Colletti (Organ)\, plus Dimby Rakoto (Piano) a
 nd Kim Rahantarivola (Violin). Pastor Jim's message Sowing Seeds of Hope 
 is based on the Jesus' story of the mustard seed as recorded in Mark 4:30-
 34. \nThe 2025 Annual Congregation Meeting will be held on Sunday followi
 ng the morning worship service. 
LAST-MODIFIED:20260416T131907
LOCATION:
SUMMARY:Sunday Worship
URL;VALUE=URI:https://www.knoxottawa.ca/events/sunday-worship--834/2026-04-
 19
ATTACH;FILENAME=Apr2021-25-3.jpg;FMTTYPE=image/jpeg:https://dq5pwpg1q8ru0.c
 loudfront.net/2026/04/16/17/19/07/f8eb062e-9ac6-4a70-a882-8ece3a671cd7/Apr
 2021-25-3.jpg
END:VEVENT
END:VCALENDAR
