BEGIN:VCALENDAR
VERSION:2.0
PRODID:icalendar-ruby
CALSCALE:GREGORIAN
METHOD:PUBLISH
BEGIN:VEVENT
DTSTAMP:20260424T130721Z
UID:835-1922618@knoxottawa.ca
DTSTART:20260426T143000Z
DTEND:20260426T153000Z
CLASS:PUBLIC
CREATED:20260423T132619
DESCRIPTION:We welcome Susan Toman as our lead musician during worship this
  Sunday. Pastor Jim's message will be Freedom and Duty of Religion and is 
 based on various readings about the relationship between faith and politic
 s from the Old and Testament including Genesis 41:38-45\; Daniel 1:18-21 a
 nd 1 Peter 2:11-17.  
LAST-MODIFIED:20260423T132619
LOCATION:
SUMMARY:Sunday Worship
URL;VALUE=URI:https://www.knoxottawa.ca/events/sunday-worship--835/2026-04-
 26
ATTACH;FILENAME=garden-duo.jpg;FMTTYPE=image/jpeg:https://dq5pwpg1q8ru0.clo
 udfront.net/2026/04/23/17/26/18/04658eac-886b-4251-aeb9-502c3ab84ce0/garde
 n-duo.jpg
END:VEVENT
END:VCALENDAR
